BEGIN:VCALENDAR
VERSION:2.0
PRODID:-//eventon.com NONSGML v1.0//EN
CALSCALE:GREGORIAN
METHOD:PUBLISH
BEGIN:VEVENT
UID:69e5e42149ab5
DTSTAMP:20260420T083025Z
DTSTART:20180604T070000Z
DTEND:20180604T071500Z
LOCATION:St. Johann Baptist Marktplatz 14\,  87700 Memmingen
SUMMARY:Bevor die Stadt erwacht
DESCRIPTION:Kurzes Innehalten vor dem Start in die neue Woche: da sein – 
 schweigen – auftanken.\nhttps://cityseelsorge-memmingen.de/veranstaltunge
 n/bevor-die-stadt-erwacht/
URL:https://cityseelsorge-memmingen.de/veranstaltungen/bevor-die-stadt-erwacht/
END:VEVENT
END:VCALENDAR