BEGIN:VCALENDAR
VERSION:2.0
PRODID:-//eventon.com NONSGML v1.0//EN
CALSCALE:GREGORIAN
METHOD:PUBLISH
BEGIN:VEVENT
UID:69e736feb0ab5
DTSTAMP:20260421T083614Z
DTSTART:20220401T170000Z
DTEND:20220402T170000Z
LOCATION:Benediktinerabtei Ottobeuren - Bildungshaus Sebastian-Kneipp-Straße 1
SUMMARY:Mein Leben\,  Gott und ich dabei
DESCRIPTION:Im seelsorgerlichen Umgang mit Menschen ist ein gesundes Selbst
 bewusstsein von grundlegender Bedeutung. Nur wer um sich selbst weiß\,  ka
 nn sich in der Rolle als Gesprächspartner zurücknehmen und zugleich authe
 ntisch und persönlich ansprechbar bleiben. In der Reflexion der eigenen Le
 bens- und Glaubenserfahrungen wird der Blick auf die persönlichen Ressourc
 en gelenkt\,  die[..]\nhttps://cityseelsorge-memmingen.de/veranstaltungen/m
 ein-leben-gott-und-ich-dabei/
URL:https://cityseelsorge-memmingen.de/veranstaltungen/mein-leben-gott-und-ich-dabei/
END:VEVENT
END:VCALENDAR