BEGIN:VCALENDAR
VERSION:2.0
PRODID:-//eventon.com NONSGML v1.0//EN
CALSCALE:GREGORIAN
METHOD:PUBLISH
BEGIN:VEVENT
UID:69e73ba625463
DTSTAMP:20260421T085606Z
DTSTART:20190914T090000Z
DTEND:20190914T120000Z
LOCATION:Cityseelsorge Memmingen Marktplatz 15\,  87700 Memmingen
SUMMARY:CafÃ©-Betrieb der Cityseelsorge in Theorie und Praxis
DESCRIPTION:Zum Service im BegegnungscafÃ© der Cityseelsorge sind theoretis
 che und praktische Grundlagen wesentlich. GrundzÃ¼ge des Hausrechtes gegenÃ
 ¼ber unseren GÃ¤sten gehÃ¶ren ebenso dazu wie eine Hygieneschulung und die 
 praktische EinfÃ¼hrung in die GerÃ¤te und den Hintergrundbetrieb der RÃ¤ume
 . Referenten: Team der Cityseelsorge &nbsp;\nhttps://cityseelsorge-memminge
 n.de/veranstaltungen/cafe-betrieb-der-cityseelsorge-in-theorie-und-praxis-2
 /
URL:https://cityseelsorge-memmingen.de/veranstaltungen/cafe-betrieb-der-cityseelsorge-in-theorie-und-praxis-2/
END:VEVENT
END:VCALENDAR