BEGIN:VCALENDAR
VERSION:2.0
PRODID:-//eventon.com NONSGML v1.0//EN
CALSCALE:GREGORIAN
METHOD:PUBLISH
BEGIN:VEVENT
UID:69e6c9da3560b
DTSTAMP:20260421T005034Z
DTSTART:20191130T093000Z
DTEND:20191130T160000Z
LOCATION:Gemeinderaum - Altes Pfarrhaus Sankt Johann Marktplatz 15\,  87700 Memmingen
SUMMARY:BEGEGNUNG (Lukas 1\, 39-56)
DESCRIPTION:&#8222;Wir erkennen zwischen alten Weisungen biblischer Texte u
 nd unserem heutigen sozialen und persönlichen Leben Verbindungen\,  Verbin
 dlichkeiten\,  Hinweise\,  Herausforderungen und Zuspruch. Das ist Bibliodr
 ama.&#8220; Heidemarie Langer Mit unserem Leben – unserem Alltag\,  unser
 en Beziehungen und unserem Glauben – gehen wir in eine biblische Erzählu
 ng\,  spüren dem nach\,  was sie in uns[..]\nhttps://cityseelsorge-memming
 en.de/veranstaltungen/begegnung-lukas-139-56/
URL:https://cityseelsorge-memmingen.de/veranstaltungen/begegnung-lukas-139-56/
END:VEVENT
END:VCALENDAR