BEGIN:VCALENDAR
VERSION:2.0
PRODID:-//eventon.com NONSGML v1.0//EN
CALSCALE:GREGORIAN
METHOD:PUBLISH
BEGIN:VEVENT
UID:69e5e0ab06ccb
DTSTAMP:20260420T081539Z
DTSTART:20191211T194500Z
DTEND:20191211T235000Z
LOCATION:Gemeinderaum - Altes Pfarrhaus Sankt Johann Marktplatz 15\,  87700 Memmingen
SUMMARY:Glaubensinformation
DESCRIPTION:Welchen Beitrag kann ich als Christin und Christ im Alltag für
  eine gesunde Welt leisten? Ein Abend zu Fairsein und nachhaltigem Umgang m
 it Ressourcen aus christlicher Verantwortung. Referent: Diplom-Sozialpädag
 oge Michael Dudella\,  KAB-Referent\,  Schwerpunkt Nachhaltigkeit\nhttps://
 cityseelsorge-memmingen.de/veranstaltungen/glaubensinformation-3/
URL:https://cityseelsorge-memmingen.de/veranstaltungen/glaubensinformation-3/
END:VEVENT
END:VCALENDAR