BEGIN:VCALENDAR
VERSION:2.0
PRODID:-//eventon.com NONSGML v1.0//EN
CALSCALE:GREGORIAN
METHOD:PUBLISH
BEGIN:VEVENT
UID:69e73b3ed388c
DTSTAMP:20260421T085422Z
DTSTART:20220428T193000Z
DTEND:20220428T210000Z
LOCATION:
SUMMARY:Synodaler Weg - KONKRET! - Online-Veranstaltungsreihe
DESCRIPTION:Jeder Mensch ist von Gott aus Liebe und zur Liebe hin geschaffe
 n. Wie können Menschen in ihren persönlichen Lebenssituationen und sexuel
 len Orientierungen im Raum der Kirche Ermutigung und Befreiung zu einem Leb
 en in gelingenden Beziehungen erfahren? Gast: Ulrich Hoffmann\,  Präsident
  des Familienbundes der Katholiken\,  ZdK-Mitglied\,  Mitglied in der Synod
 alversammlung und[..]\nhttps://cityseelsorge-memmingen.de/veranstaltungen/s
 ynodaler-weg-konkret-online-veranstaltungsreihe-5/
URL:https://cityseelsorge-memmingen.de/veranstaltungen/synodaler-weg-konkret-online-veranstaltungsreihe-5/
END:VEVENT
END:VCALENDAR