BEGIN:VCALENDAR
VERSION:2.0
PRODID:-//eventon.com NONSGML v1.0//EN
CALSCALE:GREGORIAN
METHOD:PUBLISH
BEGIN:VEVENT
UID:69e5e228a9894
DTSTAMP:20260420T082200Z
DTSTART:20230525T181500Z
DTEND:20230525T190000Z
LOCATION:Café &quot;mittendrin&quot; Marktplatz 15\,  Memmingen
SUMMARY:Hock di naa! - Schwätza mit wichitge Leit'
DESCRIPTION:&#8222;Einsitzen&#8220; mit Pfarrer Matthias Striebeck und Diak
 on Oliver Föhr\,  Gefängnisseelsorger Veranstalter: Evangelische und kath
 olische Kirche in Memmingen\nhttps://cityseelsorge-memmingen.de/veranstaltu
 ngen/hock-di-naa-schwaetza-mit-wichitge-leit/
URL:https://cityseelsorge-memmingen.de/veranstaltungen/hock-di-naa-schwaetza-mit-wichitge-leit/
END:VEVENT
END:VCALENDAR