BEGIN:VCALENDAR
VERSION:2.0
PRODID:-//eventon.com NONSGML v1.0//EN
CALSCALE:GREGORIAN
METHOD:PUBLISH
BEGIN:VEVENT
UID:69eaf3406b39f
DTSTAMP:20260424T043616Z
DTSTART:20240329T090000Z
DTEND:20240329T235000Z
LOCATION:Kirche St. Josef St.-Josefs-Kirchplatz
SUMMARY:Trauermette zum Karfreitag
DESCRIPTION:Das Tagzeitengebet der Kirche bringt in den Gesängen und Lesun
 gen der Laudes den Charakter dieser Tage zum Ausdruck. Gregorianischer Gesa
 ng und die uralten Worte der Psalmen und Propheten bieten den Raum\,  um ei
 gene Lebenserfahrungen mit dem Leben und Sterben Jesu in Verbindung zu brin
 gen. &nbsp;\nhttps://cityseelsorge-memmingen.de/veranstaltungen/trauermette
 -zum-karfreitag-4/
URL:https://cityseelsorge-memmingen.de/veranstaltungen/trauermette-zum-karfreitag-4/
END:VEVENT
END:VCALENDAR