BEGIN:VCALENDAR
VERSION:2.0
PRODID:-//eventon.com NONSGML v1.0//EN
CALSCALE:GREGORIAN
METHOD:PUBLISH
BEGIN:VEVENT
UID:69e5f7a1d450d
DTSTAMP:20260420T095337Z
DTSTART:20240324T170000Z
DTEND:20240324T180000Z
LOCATION:Kirche St. Josef St.-Josefs-Kirchplatz
SUMMARY:Theatergottesdienst zu "Endspiel" von Samuel Beckett
DESCRIPTION:In einer postapokalyptischen Welt verharren vier Gestalten in e
 inem Bunker. Die bedrohliche Situation führt nicht zu Solidarität und beh
 erztem Handeln\,  sondern mündet im Unvermögen zu gestalten und in ritual
 isierten Machtspielen. Die Figuren finden keinen Weg aus ihrem selbst gewä
 hlten Gefängnis heraus. Becketts absurdes Stück stellt dies mit beißende
 r Ironie und[..]\nhttps://cityseelsorge-memmingen.de/veranstaltungen/theate
 rgottesdienst-zu-endspiel-von-samuel-beckett/
URL:https://cityseelsorge-memmingen.de/veranstaltungen/theatergottesdienst-zu-endspiel-von-samuel-beckett/
END:VEVENT
END:VCALENDAR