BEGIN:VCALENDAR
VERSION:2.0
PRODID:-//eventon.com NONSGML v1.0//EN
CALSCALE:GREGORIAN
METHOD:PUBLISH
BEGIN:VEVENT
UID:69e739ea9f4ca
DTSTAMP:20260421T084842Z
DTSTART:20250505T170000Z
DTEND:20250505T215900Z
LOCATION:Cityseelsorge Memmingen Marktplatz 15\,  87700 Memmingen
SUMMARY:Go spiritual!
DESCRIPTION:Sie sind getauft\,  aber nicht gefirmt und möchten ein Patenam
 t übernehmen\,  wünschen eine kirchliche Trauung oder möchten zur kathol
 ischen Kirche übertreten? Kein Problem! Es ist in jedem Alter möglich\,  
 gefirmt zu werden. Gerade in den letzten Jahren fragen vermehrt (junge) Erw
 achsene nach der Firmung. Der nächste Vorbereitungskurs beginnt am Montag\
 , [..]\nhttps://cityseelsorge-memmingen.de/veranstaltungen/go-spiritual-16/
URL:https://cityseelsorge-memmingen.de/veranstaltungen/go-spiritual-16/
END:VEVENT
END:VCALENDAR