BEGIN:VCALENDAR
VERSION:2.0
PRODID:-//eventon.com NONSGML v1.0//EN
CALSCALE:GREGORIAN
METHOD:PUBLISH
BEGIN:VEVENT
UID:69e73af230458
DTSTAMP:20260421T085306Z
DTSTART:20250712T130000Z
DTEND:20250712T140000Z
LOCATION:Kirche St. Johann Baptist Marktplatz\,  87700 Memmingen
SUMMARY:Ökumenischer Gottesdienst zum Chistopher Street Day in Memmingen – für alle
DESCRIPTION:Der Gottesdienst unter dem Motto „Mensch\,  du hast Recht! Ze
 ig dich!“ lädt alle ein miteinander zu feiern\,  dass wir Menschen einzi
 gartig in großer Vielfalt und Unterschiedlichkeit erschaffen sind. Veranst
 alter: pride memmingen\,  Evangelische Jugend im Dekanat MM\,  Kath. Jugend
 stelle MM\,  katholisch &amp; queer im Bistum Augsburg\,  Evangelisches Dek
 anat Memmingen\,  Cityseelsorge Memmingen[..]\nhttps://cityseelsorge-memmin
 gen.de/veranstaltungen/oekumenischer-gottesdienst-zum-chistopher-street-day
 -in-memmingen-fuer-alle/
URL:https://cityseelsorge-memmingen.de/veranstaltungen/oekumenischer-gottesdienst-zum-chistopher-street-day-in-memmingen-fuer-alle/
END:VEVENT
END:VCALENDAR