BEGIN:VCALENDAR
VERSION:2.0
PRODID:-//eventon.com NONSGML v1.0//EN
CALSCALE:GREGORIAN
METHOD:PUBLISH
BEGIN:VEVENT
UID:69e5e358ac232
DTSTAMP:20260420T082704Z
DTSTART:20260326T193000Z
DTEND:20260326T210000Z
LOCATION:Gemeinderaum\,  Altes Pfarrhaus Sankt Johann Marktplatz 15\,  87700 Memmingen
SUMMARY:Grundlagen der Trauerbegleitung
DESCRIPTION:Trauernden zu begegnen macht uns oft unsicher. Sie lernen Konze
 pte kennen\,  die Trauerprozesse verdeutlichen und es uns erleichtern\,  Re
 aktionen von Trauernden einzuordnen und besser verstehen zu können. Hilfre
 iche Kommunikation mit Trauernden sowie der Einsatz von Trauerritualen gebe
 n ihnen konkrete Unterstützung für ihren Alltag. Referentin: Kathrin Grab
 enbauer\,  Dipl.-Sozialpädagogin (FH) Sankt Elisabeth[..]\nhttps://citysee
 lsorge-memmingen.de/veranstaltungen/grundlagen-der-trauerbegleitung-5/
URL:https://cityseelsorge-memmingen.de/veranstaltungen/grundlagen-der-trauerbegleitung-5/
END:VEVENT
END:VCALENDAR