BEGIN:VCALENDAR
VERSION:2.0
PRODID:-//eventon.com NONSGML v1.0//EN
CALSCALE:GREGORIAN
METHOD:PUBLISH
BEGIN:VEVENT
UID:69e7375a84bf7
DTSTAMP:20260421T083746Z
DTSTART:20260404T090000Z
DTEND:20260404T235900Z
LOCATION:Kirche St. Johann Baptist Marktplatz\,  87700 Memmingen
SUMMARY:Trauermette zum Karsamstag
DESCRIPTION:Das Tagzeitengebet der Kirche bringt in den Gesängen und Lesun
 gen der Laudes den Charakter dieser Tage zum Ausdruck. Gregorianischer Gesa
 ng und die uralten Worte der Psalmen und Propheten bieten den Raum\,  um ei
 gene Lebenserfahrungen mit dem Leben und Sterben Jesu in Verbindung zu brin
 gen. &nbsp;\nhttps://cityseelsorge-memmingen.de/veranstaltungen/trauermette
 -zum-karsamstag-2/
URL:https://cityseelsorge-memmingen.de/veranstaltungen/trauermette-zum-karsamstag-2/
END:VEVENT
END:VCALENDAR