BEGIN:VCALENDAR
VERSION:2.0
PRODID:-//eventon.com NONSGML v1.0//EN
CALSCALE:GREGORIAN
METHOD:PUBLISH
BEGIN:VEVENT
UID:69eb3ca88d3bd
DTSTAMP:20260424T094928Z
DTSTART:20260416T170000Z
DTEND:20260416T180000Z
LOCATION:Kirche St. Johann Baptist Marktplatz\,  87700 Memmingen
SUMMARY:"Offenes Ohr"
DESCRIPTION:"Offenes Ohr"\nhttps://cityseelsorge-memmingen.de/veranstaltung
 en/offenes-ohr-11/
URL:https://cityseelsorge-memmingen.de/veranstaltungen/offenes-ohr-11/
END:VEVENT
END:VCALENDAR